BEGIN:VCALENDAR
VERSION:2.0
PRODID:-//wp-events-plugin.com//7.2.3.1//EN
TZID:Europe/Berlin
X-WR-TIMEZONE:Europe/Berlin
BEGIN:VEVENT
UID:32@diebasis-partei.de
DTSTART;TZID=Europe/Berlin:20250905T000000
DTEND;TZID=Europe/Berlin:20250907T000000
DTSTAMP:20250902T223333Z
URL:https://diebasis-partei.de/events/6-magdeburger-friedensfestival-5-7-s
 ept-2025/
SUMMARY:6. Magdeburger Friedensfestival 5.-7. Sept. 2025
DESCRIPTION:6. Magdeburger Friedensfestival 5.-7. Sept. 2025 – \nLasst un
 s „friedenstüchtig“ werden! – u.a. mit:\nJens Fischer Rodrian\, Nin
 a Maleika\, Diether Dehm\, Prof. Martin Schwab\, Patrik Baab\, “Dante”
 \, Florian D. Paff
ATTACH;FMTTYPE=image/jpeg:https://diebasis-partei.de/wp-content/uploads/20
 25/08/frieden-magdeburg-news-post-hochformat.jpg
CATEGORIES:Frieden,Gesellschaft,Musik,Unterhaltung
END:VEVENT
BEGIN:VTIMEZONE
TZID:Europe/Berlin
X-LIC-LOCATION:Europe/Berlin
BEGIN:DAYLIGHT
DTSTART:20250330T030000
TZOFFSETFROM:+0100
TZOFFSETTO:+0200
TZNAME:CEST
END:DAYLIGHT
END:VTIMEZONE
END:VCALENDAR