BEGIN:VCALENDAR
VERSION:2.0
PRODID:-//wp-events-plugin.com//7.2.3.1//EN
TZID:Europe/Berlin
X-WR-TIMEZONE:Europe/Berlin
BEGIN:VEVENT
UID:40@diebasis-partei.de
DTSTART;TZID=Europe/Berlin:20250927T190000
DTEND;TZID=Europe/Berlin:20250927T213000
DTSTAMP:20250918T125703Z
URL:https://diebasis-partei.de/events/aesthetik-des-widerstands-vortrag-un
 d-lesung-von-dr-werner-koehne/
SUMMARY:"Ästhetik des Widerstands" – Vortrag und Lesung von Dr. Werner K
 öhne
DESCRIPTION:"Ästhetik des Widerstands"\nVortrag und Lesung von Dr. Werner 
 Köhne
ATTACH;FMTTYPE=image/jpeg:https://diebasis-partei.de/wp-content/uploads/20
 25/09/Vortrag-Koehne.jpg
CATEGORIES:Autorenlesung,Bildung,Frieden,Gesellschaft
END:VEVENT
BEGIN:VTIMEZONE
TZID:Europe/Berlin
X-LIC-LOCATION:Europe/Berlin
BEGIN:DAYLIGHT
DTSTART:20250330T030000
TZOFFSETFROM:+0100
TZOFFSETTO:+0200
TZNAME:CEST
END:DAYLIGHT
END:VTIMEZONE
END:VCALENDAR