BEGIN:VCALENDAR
VERSION:2.0
PRODID:-//wp-events-plugin.com//7.2.3.1//EN
TZID:Europe/Berlin
X-WR-TIMEZONE:Europe/Berlin
BEGIN:VEVENT
UID:101@diebasis-partei.de
DTSTART;TZID=Europe/Berlin:20260321T000000
DTEND;TZID=Europe/Berlin:20260322T000000
DTSTAMP:20260312T133542Z
URL:https://diebasis-partei.de/events/corona-gedenktag-erinnern-zuhoeren-b
 ruecken-bauen/
SUMMARY:Corona-Gedenktag: Erinnern\, zuhören\, Brücken bauen
DESCRIPTION:Am 21./22. März 2026 jährt sich der erste bundesweite Lockdow
 n zum sechsten Mal.\nDer Corona-Gedenktag lädt Menschen ein\, innezuhalte
 n\, Erfahrungen zu teilen und miteinander ins Gespräch zu kommen – unab
 hängig davon\, welche Perspektiven sie in dieser Zeit hatten.
ATTACH;FMTTYPE=image/jpeg:https://diebasis-partei.de/wp-content/uploads/20
 26/03/Gedenktag.jpg
CATEGORIES:Demo,Frieden,Gesellschaft,Gesundheit,Medizin
END:VEVENT
BEGIN:VTIMEZONE
TZID:Europe/Berlin
X-LIC-LOCATION:Europe/Berlin
BEGIN:STANDARD
DTSTART:20251026T020000
TZOFFSETFROM:+0200
TZOFFSETTO:+0100
TZNAME:CET
END:STANDARD
END:VTIMEZONE
END:VCALENDAR