BEGIN:VCALENDAR
VERSION:2.0
PRODID:-//wp-events-plugin.com//7.2.3.1//EN
TZID:Europe/Berlin
X-WR-TIMEZONE:Europe/Berlin
BEGIN:VEVENT
UID:54@diebasis-partei.de
DTSTART;TZID=Europe/Berlin:20251008T190000
DTEND;TZID=Europe/Berlin:20251008T213000
DTSTAMP:20250927T141357Z
URL:https://diebasis-partei.de/events/die-schueler-id-vom-kita-kind-zur-ko
 ntrollierten-karriere/
SUMMARY:Die Schüler-ID – Vom Kita-Kind zur kontrollierten Karriere?
DESCRIPTION:Was bedeutet die geplante Schüler-ID wirklich für unsere Kind
 er? In seinem Vortrag zeigt Klaus Sauerland\, Vater von 7 Kindern\, Optike
 r- und Friseurmeister\, Vorsitzender der Partei dieBasis in Braunschweig\,
  warum Eltern sich mit diesem Thema auseinandersetzen sollten.
ATTACH;FMTTYPE=image/jpeg:https://diebasis-partei.de/wp-content/uploads/20
 25/09/Schueler-ID.jpg
CATEGORIES:Bildung,Gesellschaft
END:VEVENT
BEGIN:VTIMEZONE
TZID:Europe/Berlin
X-LIC-LOCATION:Europe/Berlin
BEGIN:DAYLIGHT
DTSTART:20250330T030000
TZOFFSETFROM:+0100
TZOFFSETTO:+0200
TZNAME:CEST
END:DAYLIGHT
END:VTIMEZONE
END:VCALENDAR