BEGIN:VCALENDAR
VERSION:2.0
PRODID:-//wp-events-plugin.com//7.2.3.1//EN
TZID:Europe/Berlin
X-WR-TIMEZONE:Europe/Berlin
BEGIN:VEVENT
UID:52@diebasis-partei.de
DTSTART;TZID=Europe/Berlin:20251114T190000
DTEND;TZID=Europe/Berlin:20251114T210000
DTSTAMP:20250924T165014Z
URL:https://diebasis-partei.de/events/ein-abend-mit-prof-ulrike-guerot-in-
 luedenscheid/
SUMMARY:Ein Abend mit Prof. Ulrike Guérot in Lüdenscheid
DESCRIPTION:Vortrag und Diskussion –\nAm Freitag\, 14.11.2025 um 19:00 Uh
 r ist Prof. Ulrike Guérot zu Gast in Lüdenscheid. In einem rund 60-minü
 tigen Vortrag beleuchtet sie aktuelle politische Fragen – anschließend 
 gibt es Raum für Austausch und Diskussion.
ATTACH;FMTTYPE=image/jpeg:https://diebasis-partei.de/wp-content/uploads/20
 25/09/Guerot.jpg
CATEGORIES:Bildung,Frieden,Gesellschaft
END:VEVENT
BEGIN:VTIMEZONE
TZID:Europe/Berlin
X-LIC-LOCATION:Europe/Berlin
BEGIN:STANDARD
DTSTART:20251026T020000
TZOFFSETFROM:+0200
TZOFFSETTO:+0100
TZNAME:CET
END:STANDARD
END:VTIMEZONE
END:VCALENDAR