BEGIN:VCALENDAR
VERSION:2.0
PRODID:-//wp-events-plugin.com//7.2.3.1//EN
TZID:Europe/Berlin
X-WR-TIMEZONE:Europe/Berlin
BEGIN:VEVENT
UID:66@diebasis-partei.de
DTSTART;TZID=Europe/Berlin:20251121T190000
DTEND;TZID=Europe/Berlin:20251121T210000
DTSTAMP:20251107T002138Z
URL:https://diebasis-partei.de/events/emissionshandel-was-geht-mich-das-an
 -ein-vortrag-von-cornelia-leymann/
SUMMARY:Emissionshandel – was geht mich das an? Ein Vortrag von Cornelia 
 Leymann
DESCRIPTION:Der Emissionshandel und die damit einhergehende CO2-Bepreisung 
 hat nur das eine Ziel: unser Leben teurer zu machen.\nDamit sollen wir ume
 rzogen werden zu klimaneutralen Wesen und besseren Menschen. Das hat Bunde
 skanzler Merz bei Caren Miosga zugegeben.\nDoch diese CO2-Bepreisung\, was
  ist das eigentlich und wer hat sie in die Welt gesetzt?
ATTACH;FMTTYPE=image/jpeg:https://diebasis-partei.de/wp-content/uploads/20
 25/11/Emissionshandel.jpg
CATEGORIES:Bildung,Gesellschaft,Klima
END:VEVENT
BEGIN:VTIMEZONE
TZID:Europe/Berlin
X-LIC-LOCATION:Europe/Berlin
BEGIN:STANDARD
DTSTART:20251026T020000
TZOFFSETFROM:+0200
TZOFFSETTO:+0100
TZNAME:CET
END:STANDARD
END:VTIMEZONE
END:VCALENDAR