BEGIN:VCALENDAR
VERSION:2.0
PRODID:-//wp-events-plugin.com//7.2.3.1//EN
TZID:Europe/Berlin
X-WR-TIMEZONE:Europe/Berlin
BEGIN:VEVENT
UID:107@diebasis-partei.de
DTSTART;TZID=Europe/Berlin:20260416T183000
DTEND;TZID=Europe/Berlin:20260416T210000
DTSTAMP:20260404T222422Z
URL:https://diebasis-partei.de/events/frieden-in-freiheit-durch-wahrheit/
SUMMARY:Frieden in Freiheit durch Wahrheit - Vortrag von Wolfgang Effenberg
 er
DESCRIPTION:Frieden in Freiheit durch Wahrheit\nGeopolitische Machtverschie
 bungen von Mackinder bis BRICS – Deutschland auf dem Weg zur Großschade
 nslage\nDo. 16.04.2026 um 19.00 Uhr\ndieBasis Bürgerbüro\, Schleißheime
 r Str. 189\n\nVortrag von Wolfgang Effenberger
ATTACH;FMTTYPE=image/jpeg:https://diebasis-partei.de/wp-content/uploads/20
 26/03/photo_2026-03-30_23-07-58.jpg
CATEGORIES:Frieden,Vortrag
LOCATION:München\, Schleißheimer Str. 189\, München\, Bayern\, Deutschla
 nd
X-APPLE-STRUCTURED-LOCATION;VALUE=URI;X-ADDRESS=Schleißheimer Str. 189\, M
 ünchen\, Bayern\, Deutschland;X-APPLE-RADIUS=100;X-TITLE=München:geo:0,0
END:VEVENT
BEGIN:VTIMEZONE
TZID:Europe/Berlin
X-LIC-LOCATION:Europe/Berlin
BEGIN:DAYLIGHT
DTSTART:20260329T030000
TZOFFSETFROM:+0100
TZOFFSETTO:+0200
TZNAME:CEST
END:DAYLIGHT
END:VTIMEZONE
END:VCALENDAR