BEGIN:VCALENDAR
VERSION:2.0
PRODID:-//wp-events-plugin.com//7.2.3.1//EN
TZID:Europe/Berlin
X-WR-TIMEZONE:Europe/Berlin
BEGIN:VEVENT
UID:114@diebasis-partei.de
DTSTART;TZID=Europe/Berlin:20260508T160000
DTEND;TZID=Europe/Berlin:20260508T180000
DTSTAMP:20260420T192530Z
URL:https://diebasis-partei.de/events/frieden-mit-russland-aktionstheater-
 am-08-mai-2026-in-berlin/
SUMMARY:Frieden mit Russland – Aktionstheater am 08. Mai 2026 in Berlin
DESCRIPTION:Am 8. Mai 2026 sammeln sich um 16 Uhr Mitglieder der Basisdemok
 ratischen Partei am Alexanderplatz\, um ein Straßentheater aufzuführen.
ATTACH;FMTTYPE=image/jpeg:https://diebasis-partei.de/wp-content/uploads/20
 26/04/2026-05-08_Frieden-Russland-Quadrat_Beitrag_1200.jpg
CATEGORIES:Demo,Frieden,Geschichte,Gesellschaft
LOCATION:Berlin\, Zillestr. 9\, Berlin\, Berlin\, 10000\, Berlin\, Deutschl
 and
X-APPLE-STRUCTURED-LOCATION;VALUE=URI;X-ADDRESS=Zillestr. 9\, Berlin\, Berl
 in\, 10000\, Berlin\, Deutschland;X-APPLE-RADIUS=100;X-TITLE=Berlin:geo:0,
 0
END:VEVENT
BEGIN:VTIMEZONE
TZID:Europe/Berlin
X-LIC-LOCATION:Europe/Berlin
BEGIN:DAYLIGHT
DTSTART:20260329T030000
TZOFFSETFROM:+0100
TZOFFSETTO:+0200
TZNAME:CEST
END:DAYLIGHT
END:VTIMEZONE
END:VCALENDAR