BEGIN:VCALENDAR
VERSION:2.0
PRODID:-//wp-events-plugin.com//7.2.3.1//EN
TZID:Europe/Berlin
X-WR-TIMEZONE:Europe/Berlin
BEGIN:VEVENT
UID:22@diebasis-partei.de
DTSTART;TZID=Europe/Berlin:20250913T190000
DTEND;TZID=Europe/Berlin:20250913T220000
DTSTAMP:20250731T133200Z
URL:https://diebasis-partei.de/events/im-moralgefaengnis-spaltung-verstehe
 n-und-ueberwinden/
SUMMARY:Im Moralgefängnis – Spaltung verstehen und überwinden
DESCRIPTION:Vortrag von Dr. Michael Andrick mit anschließendem Austausch 
 – Wieso enden unsere Meinungsverschiedenheiten in bitteren Fehden\, die 
 uns entzweien? Woher stammt das peinlich-laute Schweigen in Familien\, unt
 er Freunden\, Kollegen und in den Medien? Dr. Michael Andrick erklärt\, w
 ie deplatzierte Moralisierung unsere Debattenkultur zerstört: Spaltung is
 t eine Infektion der Kommunikationswege mit dem Virus der Moralisierung.
ATTACH;FMTTYPE=image/jpeg:https://diebasis-partei.de/wp-content/uploads/20
 25/07/Dr-Michael-Andrick-final.jpg
CATEGORIES:Gesellschaft
END:VEVENT
BEGIN:VTIMEZONE
TZID:Europe/Berlin
X-LIC-LOCATION:Europe/Berlin
BEGIN:DAYLIGHT
DTSTART:20250330T030000
TZOFFSETFROM:+0100
TZOFFSETTO:+0200
TZNAME:CEST
END:DAYLIGHT
END:VTIMEZONE
END:VCALENDAR