BEGIN:VCALENDAR
VERSION:2.0
PRODID:-//wp-events-plugin.com//7.2.3.1//EN
TZID:Europe/Berlin
X-WR-TIMEZONE:Europe/Berlin
BEGIN:VEVENT
UID:79@diebasis-partei.de
DTSTART;TZID=Europe/Berlin:20260213T170000
DTEND;TZID=Europe/Berlin:20260213T190000
DTSTAMP:20260130T204058Z
URL:https://diebasis-partei.de/events/klima-natur-und-ideologie-ein-perspe
 ktivwechsel-2/
SUMMARY:Klima\, Natur und Ideologie – ein Perspektivwechsel
DESCRIPTION:Klima\, Natur und Ideologie – ein Perspektivwechsel – 13. 
 Februar 2026 – Vortrag und Diskussion mit Andreas Korschefsky\, Pflanzen
 soziologe\, in Wienrode\nWarum wir genauer hinschauen müssen – und ande
 rs handeln sollten
ATTACH;FMTTYPE=image/jpeg:https://diebasis-partei.de/wp-content/uploads/20
 26/01/veranstaltungnews3-post-hochformat.jpg
CATEGORIES:Bildung,Gesellschaft,Klima
END:VEVENT
BEGIN:VTIMEZONE
TZID:Europe/Berlin
X-LIC-LOCATION:Europe/Berlin
BEGIN:STANDARD
DTSTART:20251026T020000
TZOFFSETFROM:+0200
TZOFFSETTO:+0100
TZNAME:CET
END:STANDARD
END:VTIMEZONE
END:VCALENDAR