BEGIN:VCALENDAR
VERSION:2.0
PRODID:-//wp-events-plugin.com//7.2.3.1//EN
TZID:Europe/Berlin
X-WR-TIMEZONE:Europe/Berlin
BEGIN:VEVENT
UID:99@diebasis-partei.de
DTSTART;TZID=Europe/Berlin:20260315T100000
DTEND;TZID=Europe/Berlin:20260315T120000
DTSTAMP:20260311T104339Z
URL:https://diebasis-partei.de/events/politischer-fruehschoppen-was-uns-be
 wegt/
SUMMARY:Politischer Frühschoppen – Was uns bewegt
DESCRIPTION:Was uns bewegt – Politischer Frühschoppen am Sonntag\, den 1
 5.03.2026 um 10 Uhr. Die Welt ist in Bewegung – von aktuellen Konflikten
  bis zu wichtigen Wahlen. Wir wollen zusammen die Entwicklungen analysiere
 n\, Eindrücke austauschen und daraus Ideen für unsere politische Arbeit 
 ableiten.
ATTACH;FMTTYPE=image/jpeg:https://diebasis-partei.de/wp-content/uploads/20
 25/06/pf-website-post-quadrat.jpg
CATEGORIES:Gesellschaft,Politischer Frühschoppen (online)
LOCATION:https://diebasis-partei-de.zoom.us/j/88103336580?pwd=bZt69avhRbfEt
 PVPPne3lkaYRTMSFi.1
END:VEVENT
BEGIN:VTIMEZONE
TZID:Europe/Berlin
X-LIC-LOCATION:Europe/Berlin
BEGIN:STANDARD
DTSTART:20251026T020000
TZOFFSETFROM:+0200
TZOFFSETTO:+0100
TZNAME:CET
END:STANDARD
END:VTIMEZONE
END:VCALENDAR