BEGIN:VCALENDAR
VERSION:2.0
PRODID:-//wp-events-plugin.com//7.2.3.1//EN
TZID:Europe/Berlin
X-WR-TIMEZONE:Europe/Berlin
BEGIN:VEVENT
UID:41@diebasis-partei.de
DTSTART;TZID=Europe/Berlin:20251029T190000
DTEND;TZID=Europe/Berlin:20251029T210000
DTSTAMP:20250909T171035Z
URL:https://diebasis-partei.de/events/rki-files-und-die-corona-aufarbeitun
 g-fachvortrag-und-diskussion-mit-bastian-barucker/
SUMMARY:RKI-Files und die Corona-Aufarbeitung - Fachvortrag und Diskussion 
 mit Bastian Barucker
DESCRIPTION:Der Autor und Journalist Bastian Barucker (Hrsg. des Buches 
 „Vereinnahmte Wissenschaft“) wird in einem einstündigen Vortrag zentr
 ale Erkenntnisse aus den lange unter Verschluss gehaltenen Protokollen des
  COVID-19-Krisenstabs am Robert-Koch-Institut vorstellen. Im Anschluss ist
  eine offene Diskussion geplant.
ATTACH;FMTTYPE=image/jpeg:https://diebasis-partei.de/wp-content/uploads/20
 25/09/barucker-post-hochformat.jpg
CATEGORIES:Bildung,Gesellschaft,Gesundheit
END:VEVENT
BEGIN:VTIMEZONE
TZID:Europe/Berlin
X-LIC-LOCATION:Europe/Berlin
BEGIN:STANDARD
DTSTART:20251026T020000
TZOFFSETFROM:+0200
TZOFFSETTO:+0100
TZNAME:CET
END:STANDARD
END:VTIMEZONE
END:VCALENDAR