BEGIN:VCALENDAR
VERSION:2.0
PRODID:-//wp-events-plugin.com//7.2.3.1//EN
TZID:Europe/Berlin
X-WR-TIMEZONE:Europe/Berlin
BEGIN:VEVENT
UID:67@diebasis-partei.de
DTSTART;TZID=Europe/Berlin:20251116T110000
DTEND;TZID=Europe/Berlin:20251116T150000
DTSTAMP:20251111T101949Z
URL:https://diebasis-partei.de/events/vom-niedergang-des-westens-zur-neuer
 findung-europas-mit-hauke-ritz-in-duesseldorf/
SUMMARY:„Vom Niedergang des Westens zur Neuerfindung Europas“ mit Hauke
  Ritz in Düsseldorf
DESCRIPTION:Kulturhistoriker Hauke Ritz stellt „Vom Niedergang des Westen
 s zur Neuerfindung Europas“ vor – Gespräch über Friedensarbeit in Ze
 iten der Russophobie und Deutschlands Rolle in einer multipolaren Welt.
ATTACH;FMTTYPE=image/jpeg:https://diebasis-partei.de/wp-content/uploads/20
 25/11/Hauke-Ritz.jpg
CATEGORIES:Autorenlesung,Bildung,Gesellschaft
END:VEVENT
BEGIN:VTIMEZONE
TZID:Europe/Berlin
X-LIC-LOCATION:Europe/Berlin
BEGIN:STANDARD
DTSTART:20251026T020000
TZOFFSETFROM:+0200
TZOFFSETTO:+0100
TZNAME:CET
END:STANDARD
END:VTIMEZONE
END:VCALENDAR