BEGIN:VCALENDAR
VERSION:2.0
PRODID:-//wp-events-plugin.com//7.2.3.1//EN
TZID:Europe/Berlin
X-WR-TIMEZONE:Europe/Berlin
BEGIN:VEVENT
UID:69@diebasis-partei.de
DTSTART;TZID=Europe/Berlin:20260117T170000
DTEND;TZID=Europe/Berlin:20260117T200000
DTSTAMP:20251223T000139Z
URL:https://diebasis-partei.de/events/wegberger-hofgespraeche-mit-dr-joerg
 -uhlig-obrigkeitshoerig/
SUMMARY:WEGBERGER HOFGESPRÄCHE mit Dr. Jörg Uhlig – Obrigkeitshörig?
DESCRIPTION:Dr. Jörg Uhlig (Diplom-Biologe) spricht über die evolutive En
 tstehung von Obrigkeitshörigkeit – und wie sie heute missbraucht werden
  kann.\nEin Abend für alle\, die verstehen wollen\, wie Macht wirkt und w
 ie man Freiheit bewahrt.
ATTACH;FMTTYPE=image/jpeg:https://diebasis-partei.de/wp-content/uploads/20
 25/12/Dr_Uhlig.jpg
CATEGORIES:Bildung,Gesellschaft
END:VEVENT
BEGIN:VTIMEZONE
TZID:Europe/Berlin
X-LIC-LOCATION:Europe/Berlin
BEGIN:STANDARD
DTSTART:20251026T020000
TZOFFSETFROM:+0200
TZOFFSETTO:+0100
TZNAME:CET
END:STANDARD
END:VTIMEZONE
END:VCALENDAR