BEGIN:VCALENDAR
VERSION:2.0
PRODID:-//wp-events-plugin.com//7.2.3.1//EN
TZID:Europe/Berlin
X-WR-TIMEZONE:Europe/Berlin
BEGIN:VEVENT
UID:108@diebasis-partei.de
DTSTART;TZID=Europe/Berlin:20260410T183000
DTEND;TZID=Europe/Berlin:20260410T210000
DTSTAMP:20260405T103058Z
URL:https://diebasis-partei.de/events/wer-will-den-3-weltkrieg-und-wenn-ja
 -wozu/
SUMMARY:Wer will den 3. Weltkrieg und wenn ja\, wozu? – Vortrag von Dr. H
 elmut Böttiger
DESCRIPTION:Drei Weltkriege für eine neue Weltordnung? Wer entfacht die Ko
 nflikte in der Ukraine oder im Nahen Osten? Was sind die politischen Ausl
 öser zur Herbeiführung von Weltkriegen? Welche Rolle spielen Geheimdiens
 te\, Überstaatliche Organisationen und NGOs?\nWas sind die bevorzugten We
 rkzeuge der Massenmanipulation?\n\nMögliche Antworten auf diese Fragen ze
 igt uns Dr. Helmut Böttiger in seinem Vortrag auf:\nWer will einen 3. Wel
 tkrieg \nund wenn ja\, wozu? \n10.04.2026\, 18.30 Uhr\nKunstmühle\, 35625
  Hüttenberg
ATTACH;FMTTYPE=image/jpeg:https://diebasis-partei.de/wp-content/uploads/20
 26/04/photo_2026-04-04_01-19-48.jpg
CATEGORIES:Vortrag
LOCATION:Hüttenberg\, Kunstmühle\, Hüttenberg\, Hessen\, Hessen\, Deutsc
 hland
X-APPLE-STRUCTURED-LOCATION;VALUE=URI;X-ADDRESS=Kunstmühle\, Hüttenberg\,
  Hessen\, Hessen\, Deutschland;X-APPLE-RADIUS=100;X-TITLE=Hüttenberg:geo:
 0,0
END:VEVENT
BEGIN:VTIMEZONE
TZID:Europe/Berlin
X-LIC-LOCATION:Europe/Berlin
BEGIN:DAYLIGHT
DTSTART:20260329T030000
TZOFFSETFROM:+0100
TZOFFSETTO:+0200
TZNAME:CEST
END:DAYLIGHT
END:VTIMEZONE
END:VCALENDAR